BEGIN:VCALENDAR
VERSION:2.0
PRODID:-//Café Fokus - ECPv6.15.20//NONSGML v1.0//EN
CALSCALE:GREGORIAN
METHOD:PUBLISH
X-ORIGINAL-URL:https://cafefokus.nl
X-WR-CALDESC:Evenementen voor Café Fokus
REFRESH-INTERVAL;VALUE=DURATION:PT1H
X-Robots-Tag:noindex
X-PUBLISHED-TTL:PT1H
BEGIN:VTIMEZONE
TZID:UTC
BEGIN:STANDARD
TZOFFSETFROM:+0000
TZOFFSETTO:+0000
TZNAME:UTC
DTSTART:20240101T000000
END:STANDARD
END:VTIMEZONE
BEGIN:VEVENT
DTSTART;TZID=UTC:20250319T200000
DTEND;TZID=UTC:20250319T223000
DTSTAMP:20260421T095118
CREATED:20241025T125958Z
LAST-MODIFIED:20250212T175346Z
UID:984-1742414400-1742423400@cafefokus.nl
SUMMARY:Fokus Pubquiz Maart
DESCRIPTION:In 6 rondes maken we uit welk team zich mag kronen tot het slimste team van Utrecht. Inloop vanaf 19.30\, we starten uiterlijk 20.30 of ieder moment dat we eerder vol zitten.Teams bestaan uit maximaal 5 leden en kunnen ook ter plekke nog geformeerd worden. En kom gerust alleen: we vinden altijd een team dat jouw kennis goed kan gebruiken!De vaste terugkerende rondes zijn: \n\n\n\n🎱 de PubQuiz Bingo – Vind het juiste antwoord op de bingokaart🔎de WieWatWaar – Raad het plaatje➗11=12 – Zoek de verbinding🌍Dit was het nieuws – Van actualiteiten tot de laatste juice🎶 Muziekronde – Van toen en nu\, pop\, rock\, klassiek en electronisch \n\n\n\nDaarnaast is de themaronde van deze maand:NNTBDeelname is gratis \n\n\n\n#utrecht#evenement#events#pubquiz#cafefokus#bier#bar#speciaalbier#valentijn#bingo#wiewatwaar#ditwashetnieuws#muziek#koekoekstraat
URL:https://cafefokus.nl/event/fokus-pubquiz-maart/
LOCATION:Café Fokus\, Koekoestraat 25\, Utrecht\, 3513XS\, Netherlands
ATTACH;FMTTYPE=image/png:https://cafefokus.nl/wp-content/uploads/2024/10/Untitled-4.png
END:VEVENT
BEGIN:VEVENT
DTSTART;TZID=UTC:20250327T193000
DTEND;TZID=UTC:20250327T230000
DTSTAMP:20260421T095118
CREATED:20241025T130036Z
LAST-MODIFIED:20241025T130201Z
UID:1015-1743103800-1743116400@cafefokus.nl
SUMMARY:Fokus Muziek Bingo Maart
DESCRIPTION:Kom meezingen met gouwe ouwes\, spiksplinter nieuwe en heerlijke evergreens tijdens de Muziek Bingo! Iedere maand een passend thema en gepresenteerd door niemand minder dan Jeroen van Pelt-Deen. \n\n\n\nMuziek Bingo!?vanaf 19:30 kan je bij bestelling van een drankje een bingokaart bemachtigen\, om 20:30 gaan we van start! Herken je het nummer? Stempel het liedje af op je kaart. Je wint als je als eerste een rij hebt\, als je als eerste twee rijen en als je volle kaart vol hebt! Heb je een valse bingo… tja… 😃 Meezingen mag!
URL:https://cafefokus.nl/event/fokus-muziek-bingo-maart/
LOCATION:Café Fokus\, Koekoestraat 25\, Utrecht\, 3513XS\, Netherlands
ATTACH;FMTTYPE=image/png:https://cafefokus.nl/wp-content/uploads/2024/10/Untitled-14.png
END:VEVENT
BEGIN:VEVENT
DTSTART;TZID=UTC:20250416T200000
DTEND;TZID=UTC:20250416T223000
DTSTAMP:20260421T095118
CREATED:20250317T224051Z
LAST-MODIFIED:20250317T224428Z
UID:987-1744833600-1744842600@cafefokus.nl
SUMMARY:Fokus Pubquiz April
DESCRIPTION:In 6 rondes maken we uit welk team zich mag kronen tot het slimste team van Utrecht. Inloop vanaf 19.30\, we starten uiterlijk 20.30 of ieder moment dat we eerder vol zitten.Teams bestaan uit maximaal 5 leden en kunnen ook ter plekke nog geformeerd worden. En kom gerust alleen: we vinden altijd een team dat jouw kennis goed kan gebruiken!De vaste terugkerende rondes zijn: \n\n\n\n🎱 de PubQuiz Bingo – Vind het juiste antwoord op de bingokaart🔎de WieWatWaar – Raad het plaatje➗11=12 – Zoek de verbinding🌍Dit was het nieuws – Van actualiteiten tot de laatste juice🎶 Muziekronde – Van toen en nu\, pop\, rock\, klassiek en electronisch \n\n\n\nDaarnaast is de themaronde van deze maand:GEELDeelname is gratis \n\n\n\n#utrecht#evenement#events#pubquiz#cafefokus#bier#bar#speciaalbier#valentijn#bingo#wiewatwaar#ditwashetnieuws#muziek#koekoekstraat
URL:https://cafefokus.nl/event/fokus-pubquiz-april/
LOCATION:Café Fokus\, Koekoestraat 25\, Utrecht\, 3513XS\, Netherlands
ATTACH;FMTTYPE=image/png:https://cafefokus.nl/wp-content/uploads/2024/10/Untitled-3.png
END:VEVENT
BEGIN:VEVENT
DTSTART;TZID=UTC:20250514T200000
DTEND;TZID=UTC:20250514T223000
DTSTAMP:20260421T095118
CREATED:20250317T224158Z
LAST-MODIFIED:20250317T224517Z
UID:989-1747252800-1747261800@cafefokus.nl
SUMMARY:Fokus Pubquiz Mei
DESCRIPTION:In 6 rondes maken we uit welk team zich mag kronen tot het slimste team van Utrecht. Inloop vanaf 19.30\, we starten uiterlijk 20.30 of ieder moment dat we eerder vol zitten.Teams bestaan uit maximaal 5 leden en kunnen ook ter plekke nog geformeerd worden. En kom gerust alleen: we vinden altijd een team dat jouw kennis goed kan gebruiken!De vaste terugkerende rondes zijn: \n\n\n\n🎱 de PubQuiz Bingo – Vind het juiste antwoord op de bingokaart🔎de WieWatWaar – Raad het plaatje➗11=12 – Zoek de verbinding🌍Dit was het nieuws – Van actualiteiten tot de laatste juice🎶 Muziekronde – Van toen en nu\, pop\, rock\, klassiek en electronisch \n\n\n\nDaarnaast is de themaronde van deze maand:BARA BADA BASELDeelname is gratis \n\n\n\n#utrecht#evenement#events#pubquiz#cafefokus#bier#bar#speciaalbier#valentijn#bingo#wiewatwaar#ditwashetnieuws#muziek#koekoekstraat
URL:https://cafefokus.nl/event/fokus-pubquiz-mei/
LOCATION:Café Fokus\, Koekoestraat 25\, Utrecht\, 3513XS\, Netherlands
ATTACH;FMTTYPE=image/png:https://cafefokus.nl/wp-content/uploads/2024/10/Untitled-2.png
END:VEVENT
BEGIN:VEVENT
DTSTART;TZID=UTC:20250618T200000
DTEND;TZID=UTC:20250618T223000
DTSTAMP:20260421T095118
CREATED:20250317T224243Z
LAST-MODIFIED:20250317T224547Z
UID:991-1750276800-1750285800@cafefokus.nl
SUMMARY:Fokus Pubquiz Juni
DESCRIPTION:In 6 rondes maken we uit welk team zich mag kronen tot het slimste team van Utrecht. Inloop vanaf 19.30\, we starten uiterlijk 20.30 of ieder moment dat we eerder vol zitten.Teams bestaan uit maximaal 5 leden en kunnen ook ter plekke nog geformeerd worden. En kom gerust alleen: we vinden altijd een team dat jouw kennis goed kan gebruiken!De vaste terugkerende rondes zijn: \n\n\n\n🎱 de PubQuiz Bingo – Vind het juiste antwoord op de bingokaart🔎de WieWatWaar – Raad het plaatje➗11=12 – Zoek de verbinding🌍Dit was het nieuws – Van actualiteiten tot de laatste juice🎶 Muziekronde – Van toen en nu\, pop\, rock\, klassiek en electronisch \n\n\n\nDaarnaast is de themaronde van deze maand:ZIN IN DE ZOMER!Deelname is gratis \n\n\n\n#utrecht#evenement#events#pubquiz#cafefokus#bier#bar#speciaalbier#valentijn#bingo#wiewatwaar#ditwashetnieuws#muziek#koekoekstraat
URL:https://cafefokus.nl/event/fokus-pubquiz-juni/
LOCATION:Café Fokus\, Koekoestraat 25\, Utrecht\, 3513XS\, Netherlands
ATTACH;FMTTYPE=image/png:https://cafefokus.nl/wp-content/uploads/2024/10/Untitled-1.png
END:VEVENT
END:VCALENDAR