BEGIN:VCALENDAR
VERSION:2.0
PRODID:-//Café Fokus - ECPv6.15.20//NONSGML v1.0//EN
CALSCALE:GREGORIAN
METHOD:PUBLISH
X-WR-CALNAME:Café Fokus
X-ORIGINAL-URL:https://cafefokus.nl
X-WR-CALDESC:Evenementen voor Café Fokus
REFRESH-INTERVAL;VALUE=DURATION:PT1H
X-Robots-Tag:noindex
X-PUBLISHED-TTL:PT1H
BEGIN:VTIMEZONE
TZID:UTC
BEGIN:STANDARD
TZOFFSETFROM:+0000
TZOFFSETTO:+0000
TZNAME:UTC
DTSTART:20230101T000000
END:STANDARD
END:VTIMEZONE
BEGIN:VEVENT
DTSTART;TZID=UTC:20241024T190000
DTEND;TZID=UTC:20241024T230000
DTSTAMP:20260421T130244
CREATED:20241005T173631Z
LAST-MODIFIED:20241005T173633Z
UID:930-1729796400-1729810800@cafefokus.nl
SUMMARY:Dolle Donderdag Muziek Bingo
DESCRIPTION:Kom meezingen met gouwe ouwes\, spiksplinter nieuwe en heerlijke evergreens tijdens de Muziek Bingo! Iedere maand een passend thema en gepresenteerd door niemand minder dan Jeroen van Pelt-Deen. \n\n\n\nMuziek Bingo!?vanaf 19:00 kan je bij bestelling van een drankje een bingokaart bemachtigen\, om 20:30 gaan we van start! Herken je het nummer? Stempel het liedje af op je kaart. Je wint als je als eerste een rij hebt\, als je als eerste twee rijen en als je volle kaart vol hebt! Heb je een valse bingo… tja…  😃 Meezingen mag!
URL:https://cafefokus.nl/event/dolle-donderdag-muziek-bingo/
LOCATION:Café Fokus\, Koekoestraat 25\, Utrecht\, 3513XS\, Netherlands
ATTACH;FMTTYPE=image/jpeg:https://cafefokus.nl/wp-content/uploads/2024/10/BingoMusiek-100NL.jpg
END:VEVENT
END:VCALENDAR